BEGIN:VCALENDAR
VERSION:2.0
PRODID:-//HS Connect - ECPv6.11.0.1//NONSGML v1.0//EN
CALSCALE:GREGORIAN
METHOD:PUBLISH
X-WR-CALNAME:HS Connect
X-ORIGINAL-URL:https://hsconnect.org
X-WR-CALDESC:Events for HS Connect
REFRESH-INTERVAL;VALUE=DURATION:PT1H
X-Robots-Tag:noindex
X-PUBLISHED-TTL:PT1H
BEGIN:VTIMEZONE
TZID:America/New_York
BEGIN:DAYLIGHT
TZOFFSETFROM:-0500
TZOFFSETTO:-0400
TZNAME:EDT
DTSTART:20240310T070000
END:DAYLIGHT
BEGIN:STANDARD
TZOFFSETFROM:-0400
TZOFFSETTO:-0500
TZNAME:EST
DTSTART:20241103T060000
END:STANDARD
BEGIN:DAYLIGHT
TZOFFSETFROM:-0500
TZOFFSETTO:-0400
TZNAME:EDT
DTSTART:20250309T070000
END:DAYLIGHT
BEGIN:STANDARD
TZOFFSETFROM:-0400
TZOFFSETTO:-0500
TZNAME:EST
DTSTART:20251102T060000
END:STANDARD
END:VTIMEZONE
BEGIN:VEVENT
DTSTART;TZID=America/New_York:20251102T120000
DTEND;TZID=America/New_York:20251104T170000
DTSTAMP:20260425T111041
CREATED:20250402T223222Z
LAST-MODIFIED:20251002T135708Z
UID:3746-1762084800-1762275600@hsconnect.org
SUMMARY:Empower HS: Knowledge and Advocacy Workshop
DESCRIPTION:Empower HS: Knowledge and Advocacy Workshop\nClick here: Join us for our Empower HS Knowledge and Advocacy Workshop.
URL:https://hsconnect.org/event/empowerhs/
LOCATION:Tri-Brand Marriott Nashville\, 410 Rep. John Lewis Way South\, Nashville\, TN\, 37203\, United States
END:VEVENT
BEGIN:VEVENT
DTSTART;TZID=America/New_York:20251031T080000
DTEND;TZID=America/New_York:20251102T170000
DTSTAMP:20260425T111041
CREATED:20250402T223526Z
LAST-MODIFIED:20250402T223648Z
UID:3748-1761897600-1762102800@hsconnect.org
SUMMARY:10th Annual SHSA
DESCRIPTION:
URL:https://hsconnect.org/event/10th-annual-shsa/
LOCATION:SHSA
END:VEVENT
BEGIN:VEVENT
DTSTART;TZID=America/New_York:20251004T190000
DTEND;TZID=America/New_York:20251004T210000
DTSTAMP:20260425T111041
CREATED:20250825T120630Z
LAST-MODIFIED:20250930T105541Z
UID:6358-1759604400-1759611600@hsconnect.org
SUMMARY:Find Us Campaign Launch
DESCRIPTION:Largest Patient-Led HS Awareness Campaign with Times Square Billboard\, Set for October 4th. \nEnvision:\nA 30 story billboard in Times Square.\nPowerful photos of HS.\nWords that speak to the heart of someone with HS.\nEmpowerment\, actionable hope\, community.\nFor the undiagnosed\, for those lost to treatment.
URL:https://hsconnect.org/event/find-us-campaign-launch/
LOCATION:Times Square\, Times Square\, Manhattan\, NY\, 10036\, United States
END:VEVENT
BEGIN:VEVENT
DTSTART;TZID=America/New_York:20250607T190000
DTEND;TZID=America/New_York:20250607T210000
DTSTAMP:20260425T111041
CREATED:20250528T174439Z
LAST-MODIFIED:20250528T174439Z
UID:5215-1749322800-1749330000@hsconnect.org
SUMMARY:HS Connecting - Detroit
DESCRIPTION:Detroit\, we’re coming to YOU! \n\n\n\nHS Connect is hosting the FIRST HS Connecting event in Detroit at the awesome Detroit Shipping Company.\n\n\nJoin us June 7th at 7pm for connection\, community\, and the launch of the HS Brotherhood podcast!\n\n\nDon’t miss out\, there are limited spots to this amazing FREE event!
URL:https://hsconnect.org/event/hs-connecting-detroit/
LOCATION:Detroit Shipping Company\, 474 Peterboro St\, Detroit\, MI\, 48201\, United States
END:VEVENT
BEGIN:VEVENT
DTSTART;TZID=America/New_York:20250601T110000
DTEND;TZID=America/New_York:20250601T150000
DTSTAMP:20260425T111041
CREATED:20250402T222837Z
LAST-MODIFIED:20250604T204629Z
UID:3743-1748775600-1748790000@hsconnect.org
SUMMARY:HS 5K Walk\, Move\, or Mingle
DESCRIPTION:Join us in making a difference by supporting our special fundraising event to celebrate Hidradenitis Suppurativa (HS) during 2025 Awareness Week! There will be raffle items\, a bake sale\, and live music during the event. \nLodging Options: \nHoliday Inn Express \n\n		\n		\n			\n				\n			\n			\n				\n			\n			\n				\n			\n			\n				\n			\n			\n				\n			\n			\n				\n			\n			\n				\n			\n			\n				\n			\n			\n				\n			\n			\n				\n			\n			\n				\n			\n			\n				\n			\n			\n				\n			\n			\n				\n			\n			\n				\n			\n			\n				\n			\n			\n				\n			\n			\n				\n			\n			\n				\n			\n			\n				\n			\n			\n				\n			\n			\n				\n			\n			\n				\n			\n			\n				\n			\n			\n				\n			\n			\n				\n			\n			\n				\n			\n			\n				\n			\n			\n				\n			\n			\n				\n			\n			\n				\n			\n			\n				\n			\n			\n				\n			\n			\n				\n			\n			\n				\n			\n			\n				\n			\n			\n				\n			\n			\n				\n			\n			\n				\n			\n			\n				\n			\n			\n				\n			\n			\n				\n			\n			\n				\n			\n			\n				\n			\n			\n				\n			\n			\n				\n			\n			\n				\n			\n			\n				\n			\n			\n				\n			\n			\n				\n			\n			\n				\n			\n			\n				\n			\n			\n				\n			\n			\n				\n			\n			\n				\n			\n			\n				\n			\n			\n				\n			\n			\n				\n			\n			\n				\n			\n			\n				\n			\n			\n				\n			\n			\n				\n			\n			\n				\n			\n			\n				\n			\n			\n				\n			\n			\n				\n			\n			\n				\n			\n			\n				\n			\n			\n				\n			\n			\n				\n			\n			\n				\n			\n			\n				\n			\n			\n				\n			\n			\n				\n			\n			\n				\n			\n			\n				\n			\n			\n				\n			\n			\n				\n			\n			\n				\n			\n			\n				\n			\n			\n				\n			\n			\n				\n			\n			\n				\n			\n			\n				\n			\n			\n				\n			\n			\n				\n			\n			\n				\n			\n			\n				\n			\n			\n				\n			\n			\n				\n			\n			\n				\n			\n			\n				\n			\n			\n				\n			\n			\n				\n			\n			\n				\n			\n			\n				\n			\n			\n				\n			\n			\n				\n			\n			\n				\n			\n			\n				\n			\n			\n				\n			\n			\n				\n			\n			\n				\n			\n			\n				\n			\n			\n				\n			\n			\n				\n			\n			\n				\n			\n			\n				\n			\n			\n				\n			\n			\n				\n			\n			\n				\n			\n			\n				\n			\n			\n				\n			\n			\n				\n			\n			\n				\n			\n			\n				\n			\n			\n				\n			\n			\n				\n			\n			\n				\n			\n			\n				\n			\n			\n				\n			\n			\n				\n			\n			\n				\n			\n			\n				\n			\n			\n				\n			\n			\n				\n			\n			\n				\n			\n			\n				\n			\n			\n				\n			\n			\n				\n			\n			\n				\n			\n			\n				\n			\n			\n				\n			\n			\n				\n			\n			\n				\n			\n			\n				\n			\n			\n				\n			\n			\n				\n			\n			\n				\n			\n			\n				\n			\n			\n				\n			\n			\n				\n			\n			\n				\n			\n			\n				\n			\n			\n				\n			\n			\n				\n			\n			\n				\n			\n			\n				\n			\n			\n				\n			\n			\n				\n			\n			\n				\n			\n			\n				\n			\n			\n				\n			\n			\n				\n			\n			\n				\n			\n			\n				\n			\n			\n				\n			\n			\n				\n			\n			\n				\n			\n			\n				\n			\n			\n				\n			\n			\n				\n			\n			\n				\n			\n			\n				\n			\n			\n				\n			\n			\n				\n			\n			\n				\n			\n			\n				\n			\n			\n				\n			\n			\n				\n			\n			\n				\n			\n			\n				\n			\n			\n				\n			\n			\n				\n			\n			\n				\n			\n			\n				\n			\n			\n				\n			\n			\n				\n			\n			\n				\n			\n			\n				\n			\n			\n				\n			\n			\n				\n			\n			\n				\n			\n			\n				\n			\n			\n				\n			\n			\n				\n			\n			\n				\n			\n			\n				\n			\n			\n				\n			\n			\n				\n			\n			\n				\n			\n			\n				\n			\n			\n				\n			\n			\n				\n			\n			\n				\n			\n			\n				\n			\n			\n				\n			\n			\n				\n			\n			\n				\n			\n			\n				\n			\n			\n				\n			\n			\n				\n			\n			\n				\n			\n			\n				\n			\n			\n				\n			\n			\n				\n			\n			\n				\n			\n			\n		\n\n 
URL:https://hsconnect.org/event/hs-5k-walk-move-or-mingle/
LOCATION:Lake St. Clair Par-3 Picnic Shelter\, 31300 Metro Pkwy\, Harrison Twp\, MI\, 48045\, United States
END:VEVENT
BEGIN:VEVENT
DTSTART;TZID=America/New_York:20241022T140000
DTEND;TZID=America/New_York:20241022T150000
DTSTAMP:20260425T111041
CREATED:20250326T193535Z
LAST-MODIFIED:20250326T193535Z
UID:2871-1729605600-1729609200@hsconnect.org
SUMMARY:Clinical Trials Uncovered: What you need to know
DESCRIPTION:
URL:https://hsconnect.org/event/clinical-trials-uncovered-what-you-need-to-know/
LOCATION:Zoom
END:VEVENT
BEGIN:VEVENT
DTSTART;TZID=America/New_York:20241016T130000
DTEND;TZID=America/New_York:20241016T140000
DTSTAMP:20260425T111041
CREATED:20250401T153034Z
LAST-MODIFIED:20250401T153034Z
UID:3425-1729083600-1729087200@hsconnect.org
SUMMARY:Clinical Trials Uncovered: What you need to know
DESCRIPTION:
URL:https://hsconnect.org/event/clinical-trials-uncovered-what-you-need-to-know-2/
LOCATION:Zoom
END:VEVENT
BEGIN:VEVENT
DTSTART;TZID=America/New_York:20241009T150000
DTEND;TZID=America/New_York:20241009T160000
DTSTAMP:20260425T111041
CREATED:20250401T153200Z
LAST-MODIFIED:20250401T153200Z
UID:3427-1728486000-1728489600@hsconnect.org
SUMMARY:Clinical Trials Uncovered: What You Need to Know
DESCRIPTION:
URL:https://hsconnect.org/event/clinical-trials-uncovered-what-you-need-to-know-3/
LOCATION:Zoom
END:VEVENT
BEGIN:VEVENT
DTSTART;TZID=America/New_York:20240628T080000
DTEND;TZID=America/New_York:20240628T170000
DTSTAMP:20260425T111041
CREATED:20250401T153312Z
LAST-MODIFIED:20250401T153312Z
UID:3429-1719561600-1719594000@hsconnect.org
SUMMARY:HS Impacts in the Transgender Community
DESCRIPTION:HS Impacts in the Transgender Community
URL:https://hsconnect.org/event/hs-impacts-in-the-transgender-community/
LOCATION:Zoom
END:VEVENT
BEGIN:VEVENT
DTSTART;TZID=America/New_York:20240626T120000
DTEND;TZID=America/New_York:20240626T130000
DTSTAMP:20260425T111041
CREATED:20250401T153445Z
LAST-MODIFIED:20250401T153445Z
UID:3430-1719403200-1719406800@hsconnect.org
SUMMARY:CBD Use in HS Patient Education Webinar
DESCRIPTION:CBD Use in HS Patient Education Webinar
URL:https://hsconnect.org/event/cbd-use-in-hs-patient-education-webinar/
LOCATION:Zoom
END:VEVENT
BEGIN:VEVENT
DTSTART;VALUE=DATE:20240616
DTEND;VALUE=DATE:20240617
DTSTAMP:20260425T111041
CREATED:20250401T153534Z
LAST-MODIFIED:20250401T153932Z
UID:3431-1718496000-1718582399@hsconnect.org
SUMMARY:STILL AVAILABLE! Awareness Week Fundraising Campaign with Custom Ink
DESCRIPTION:STILL AVAILABLE! Awareness Week Fundraising Campaign with Custom Ink
URL:https://hsconnect.org/event/still-available-awareness-week-fundraising-campaign-with-custom-ink/
LOCATION:Fundraiser
END:VEVENT
BEGIN:VEVENT
DTSTART;TZID=America/New_York:20240604T080000
DTEND;TZID=America/New_York:20240604T170000
DTSTAMP:20260425T111041
CREATED:20250401T153853Z
LAST-MODIFIED:20250401T153853Z
UID:3432-1717488000-1717520400@hsconnect.org
SUMMARY:HS Awareness Week Webinar: HS Myths
DESCRIPTION:HS Awareness Week Webinar: HS Myths
URL:https://hsconnect.org/event/hs-awareness-week-webinar-hs-myths/
LOCATION:Zoom
END:VEVENT
END:VCALENDAR